BEGIN:VCALENDAR
VERSION:2.0
PRODID:-// - ECPv6.15.20//NONSGML v1.0//EN
CALSCALE:GREGORIAN
METHOD:PUBLISH
X-ORIGINAL-URL:https://www.moyersgrovecg.com
X-WR-CALDESC:Events for 
REFRESH-INTERVAL;VALUE=DURATION:PT1H
X-Robots-Tag:noindex
X-PUBLISHED-TTL:PT1H
BEGIN:VTIMEZONE
TZID:America/Chicago
BEGIN:DAYLIGHT
TZOFFSETFROM:-0600
TZOFFSETTO:-0500
TZNAME:CDT
DTSTART:20230312T080000
END:DAYLIGHT
BEGIN:STANDARD
TZOFFSETFROM:-0500
TZOFFSETTO:-0600
TZNAME:CST
DTSTART:20231105T070000
END:STANDARD
BEGIN:DAYLIGHT
TZOFFSETFROM:-0600
TZOFFSETTO:-0500
TZNAME:CDT
DTSTART:20240310T080000
END:DAYLIGHT
BEGIN:STANDARD
TZOFFSETFROM:-0500
TZOFFSETTO:-0600
TZNAME:CST
DTSTART:20241103T070000
END:STANDARD
BEGIN:DAYLIGHT
TZOFFSETFROM:-0600
TZOFFSETTO:-0500
TZNAME:CDT
DTSTART:20250309T080000
END:DAYLIGHT
BEGIN:STANDARD
TZOFFSETFROM:-0500
TZOFFSETTO:-0600
TZNAME:CST
DTSTART:20251102T070000
END:STANDARD
END:VTIMEZONE
BEGIN:VEVENT
DTSTART;TZID=America/Chicago:20240503T080000
DTEND;TZID=America/Chicago:20240505T170000
DTSTAMP:20260424T025130
CREATED:20240430T230032Z
LAST-MODIFIED:20240430T230032Z
UID:1987-1714723200-1714928400@www.moyersgrovecg.com
SUMMARY:Cinco De Mayo Weekend
DESCRIPTION:Come celebrate the 5th of May with some great food and games. We ask that each camper bring with them a food item for our taco bar. Call or stop by the store for details. Saturday – 1:00-3:00pm – All-You-Can-Eat Taco Bar $10.00 per person 4:00pm – Piñata for the kids
URL:https://www.moyersgrovecg.com/event/cinco-de-mayo-weekend-2/
LOCATION:Moyers Grove Campground\, 309 Moyers Grove\, Wapwallopen\, PA\, 18660\, United States
ATTACH;FMTTYPE=image/webp:https://www.moyersgrovecg.com/wp-content/uploads/2024/04/IMG_2561.webp
END:VEVENT
END:VCALENDAR