BEGIN:VCALENDAR
VERSION:2.0
PRODID:-// - ECPv6.15.20//NONSGML v1.0//EN
CALSCALE:GREGORIAN
METHOD:PUBLISH
X-ORIGINAL-URL:https://www.moyersgrovecg.com
X-WR-CALDESC:Events for 
REFRESH-INTERVAL;VALUE=DURATION:PT1H
X-Robots-Tag:noindex
X-PUBLISHED-TTL:PT1H
BEGIN:VTIMEZONE
TZID:America/Chicago
BEGIN:DAYLIGHT
TZOFFSETFROM:-0600
TZOFFSETTO:-0500
TZNAME:CDT
DTSTART:20230312T080000
END:DAYLIGHT
BEGIN:STANDARD
TZOFFSETFROM:-0500
TZOFFSETTO:-0600
TZNAME:CST
DTSTART:20231105T070000
END:STANDARD
BEGIN:DAYLIGHT
TZOFFSETFROM:-0600
TZOFFSETTO:-0500
TZNAME:CDT
DTSTART:20240310T080000
END:DAYLIGHT
BEGIN:STANDARD
TZOFFSETFROM:-0500
TZOFFSETTO:-0600
TZNAME:CST
DTSTART:20241103T070000
END:STANDARD
BEGIN:DAYLIGHT
TZOFFSETFROM:-0600
TZOFFSETTO:-0500
TZNAME:CDT
DTSTART:20250309T080000
END:DAYLIGHT
BEGIN:STANDARD
TZOFFSETFROM:-0500
TZOFFSETTO:-0600
TZNAME:CST
DTSTART:20251102T070000
END:STANDARD
END:VTIMEZONE
BEGIN:VEVENT
DTSTART;TZID=America/Chicago:20240531T080000
DTEND;TZID=America/Chicago:20240602T170000
DTSTAMP:20260424T012642
CREATED:20240502T190429Z
LAST-MODIFIED:20240502T190429Z
UID:2006-1717142400-1717347600@www.moyersgrovecg.com
SUMMARY:Betty White Weekend
DESCRIPTION:All money raised this weekend will be donated to our local no kill\nshelter. We will also be collecting donations of toys\, blankets\, treats\, pet\nfood (wet and dry). Come out and help our four-legged\, furry friends.\nFriday – Movie at dusk.\nSaturday – 10:00am-1:00pm Ceramics in Store Pavilion\, $ Fee\n2:00pm Cheesecake Contest. Do you make the\nbest cheesecake? Bring it to enter our contest.\nAfterwards\, we’ll be selling slices of the\ncheesecakes to raise money for our furry friends.\n3:30pm – Pet Parade. Here’s your chance to\ndress up your pet and show it off. Pets must be\non leashes.\n4-6:00pm – Pet Photos ($5 donation)\nSaturday Nite – Bonfire\, S’mores
URL:https://www.moyersgrovecg.com/event/betty-white-weekend-2/
LOCATION:Moyers Grove Campground\, 309 Moyers Grove\, Wapwallopen\, PA\, 18660\, United States
ATTACH;FMTTYPE=image/jpeg:https://www.moyersgrovecg.com/wp-content/uploads/2024/05/385010833_122127796316021842_4592906400866951064_n.jpg
END:VEVENT
END:VCALENDAR