BEGIN:VCALENDAR
VERSION:2.0
PRODID:-// - ECPv6.15.20//NONSGML v1.0//EN
CALSCALE:GREGORIAN
METHOD:PUBLISH
X-ORIGINAL-URL:https://www.moyersgrovecg.com
X-WR-CALDESC:Events for 
REFRESH-INTERVAL;VALUE=DURATION:PT1H
X-Robots-Tag:noindex
X-PUBLISHED-TTL:PT1H
BEGIN:VTIMEZONE
TZID:America/Chicago
BEGIN:DAYLIGHT
TZOFFSETFROM:-0600
TZOFFSETTO:-0500
TZNAME:CDT
DTSTART:20230312T080000
END:DAYLIGHT
BEGIN:STANDARD
TZOFFSETFROM:-0500
TZOFFSETTO:-0600
TZNAME:CST
DTSTART:20231105T070000
END:STANDARD
BEGIN:DAYLIGHT
TZOFFSETFROM:-0600
TZOFFSETTO:-0500
TZNAME:CDT
DTSTART:20240310T080000
END:DAYLIGHT
BEGIN:STANDARD
TZOFFSETFROM:-0500
TZOFFSETTO:-0600
TZNAME:CST
DTSTART:20241103T070000
END:STANDARD
BEGIN:DAYLIGHT
TZOFFSETFROM:-0600
TZOFFSETTO:-0500
TZNAME:CDT
DTSTART:20250309T080000
END:DAYLIGHT
BEGIN:STANDARD
TZOFFSETFROM:-0500
TZOFFSETTO:-0600
TZNAME:CST
DTSTART:20251102T070000
END:STANDARD
END:VTIMEZONE
BEGIN:VEVENT
DTSTART;TZID=America/Chicago:20240705T080000
DTEND;TZID=America/Chicago:20240708T170000
DTSTAMP:20260424T000254
CREATED:20240502T193446Z
LAST-MODIFIED:20240502T193446Z
UID:2024-1720166400-1720458000@www.moyersgrovecg.com
SUMMARY:4th of July Weekend
DESCRIPTION:Friday – Fish Fry 6:00-8:00pm\nMovie starting at dusk in field.\nSaturday – 12:30pm – Red\, White\, and Blue Tie Dye. A $10 donation is\nbeing collected per t-shirt. Proceeds benefit Make-A-Wish. \nBring your own t-shirt or get one from us.\n6:00-? – 10 Game Bingo $10 for 10 games cash prize bingo\n9:30pm – Glow-in-the-Dark Duck Derby Purchase your ducks at the store.\nSunday – 12:00pm – Duck Derby\nPLEASE NO FIREWORKS or SPARKLERS ALLOWED!
URL:https://www.moyersgrovecg.com/event/4th-of-july-weekend-2/
LOCATION:Moyers Grove Campground\, 309 Moyers Grove\, Wapwallopen\, PA\, 18660\, United States
ATTACH;FMTTYPE=image/jpeg:https://www.moyersgrovecg.com/wp-content/uploads/2024/05/fireworks-1.jpg
END:VEVENT
END:VCALENDAR