BEGIN:VCALENDAR
VERSION:2.0
PRODID:-// - ECPv6.15.20//NONSGML v1.0//EN
CALSCALE:GREGORIAN
METHOD:PUBLISH
X-ORIGINAL-URL:https://www.moyersgrovecg.com
X-WR-CALDESC:Events for 
REFRESH-INTERVAL;VALUE=DURATION:PT1H
X-Robots-Tag:noindex
X-PUBLISHED-TTL:PT1H
BEGIN:VTIMEZONE
TZID:America/Chicago
BEGIN:DAYLIGHT
TZOFFSETFROM:-0600
TZOFFSETTO:-0500
TZNAME:CDT
DTSTART:20230312T080000
END:DAYLIGHT
BEGIN:STANDARD
TZOFFSETFROM:-0500
TZOFFSETTO:-0600
TZNAME:CST
DTSTART:20231105T070000
END:STANDARD
BEGIN:DAYLIGHT
TZOFFSETFROM:-0600
TZOFFSETTO:-0500
TZNAME:CDT
DTSTART:20240310T080000
END:DAYLIGHT
BEGIN:STANDARD
TZOFFSETFROM:-0500
TZOFFSETTO:-0600
TZNAME:CST
DTSTART:20241103T070000
END:STANDARD
BEGIN:DAYLIGHT
TZOFFSETFROM:-0600
TZOFFSETTO:-0500
TZNAME:CDT
DTSTART:20250309T080000
END:DAYLIGHT
BEGIN:STANDARD
TZOFFSETFROM:-0500
TZOFFSETTO:-0600
TZNAME:CST
DTSTART:20251102T070000
END:STANDARD
END:VTIMEZONE
BEGIN:VEVENT
DTSTART;TZID=America/Chicago:20240802T080000
DTEND;TZID=America/Chicago:20240804T170000
DTSTAMP:20260423T223812
CREATED:20240504T180659Z
LAST-MODIFIED:20240504T180659Z
UID:2068-1722585600-1722790800@www.moyersgrovecg.com
SUMMARY:Cookie Social /Annual Moyer’s Grove Bike Run for Make-A-Wish by Bloomsburg American Legion Riders Post 273
DESCRIPTION:Friday – Fish Fry 6:00-8:00pm\nSaturday – 9:00am – Bike Run registration begins at 11:30am.\nCost is $15 per driver and $10 per passenger\n6:00pm – Cookie Social. Bring your favorite cookies to share for our 2nd\nAnnual Cookie Social. Stop by the store for details.\n8:30pm – Adult Talent Show.
URL:https://www.moyersgrovecg.com/event/cookie-social-annual-moyers-grove-bike-run-for-make-a-wish-by-bloomsburg-american-legion-riders-post-273-2/
LOCATION:Moyers Grove Campground\, 309 Moyers Grove\, Wapwallopen\, PA\, 18660\, United States
ATTACH;FMTTYPE=image/jpeg:https://www.moyersgrovecg.com/wp-content/uploads/2024/05/motorcycles-are-parked-before-a-mentorship-ride-sept-c9173b.jpg
END:VEVENT
END:VCALENDAR