BEGIN:VCALENDAR
VERSION:2.0
PRODID:-// - ECPv6.15.20//NONSGML v1.0//EN
CALSCALE:GREGORIAN
METHOD:PUBLISH
X-ORIGINAL-URL:https://www.moyersgrovecg.com
X-WR-CALDESC:Events for 
REFRESH-INTERVAL;VALUE=DURATION:PT1H
X-Robots-Tag:noindex
X-PUBLISHED-TTL:PT1H
BEGIN:VTIMEZONE
TZID:America/Chicago
BEGIN:DAYLIGHT
TZOFFSETFROM:-0600
TZOFFSETTO:-0500
TZNAME:CDT
DTSTART:20230312T080000
END:DAYLIGHT
BEGIN:STANDARD
TZOFFSETFROM:-0500
TZOFFSETTO:-0600
TZNAME:CST
DTSTART:20231105T070000
END:STANDARD
BEGIN:DAYLIGHT
TZOFFSETFROM:-0600
TZOFFSETTO:-0500
TZNAME:CDT
DTSTART:20240310T080000
END:DAYLIGHT
BEGIN:STANDARD
TZOFFSETFROM:-0500
TZOFFSETTO:-0600
TZNAME:CST
DTSTART:20241103T070000
END:STANDARD
BEGIN:DAYLIGHT
TZOFFSETFROM:-0600
TZOFFSETTO:-0500
TZNAME:CDT
DTSTART:20250309T080000
END:DAYLIGHT
BEGIN:STANDARD
TZOFFSETFROM:-0500
TZOFFSETTO:-0600
TZNAME:CST
DTSTART:20251102T070000
END:STANDARD
END:VTIMEZONE
BEGIN:VEVENT
DTSTART;TZID=America/Chicago:20240809T080000
DTEND;TZID=America/Chicago:20240811T170000
DTSTAMP:20260423T223806
CREATED:20240504T181603Z
LAST-MODIFIED:20240504T181603Z
UID:2071-1723190400-1723395600@www.moyersgrovecg.com
SUMMARY:Make-A-Wish Funtastic Weekend
DESCRIPTION:Two days of fun activities that benefit the Make-A-Wish Foundation.\nGreat food\, music\, instant bingo\, ceramics\,\nbasket raffles\, tricky trays\, and more to be announced.\nOur emcee for the weekend will be DJ Shawn.\nThursday – 5:00pm – Ticket sales begin.\nFriday – Friday – Fish Fry 6:00-8:00pm. Movie starting at dusk.\nSelling of the tickets and raffles will continue.\nSaturday – 9:00am –Selling for raffles will continue.\nCome play the Wheel of Fun\, instant bingo\, crafts\,\n50/50\, The Leaky Cauldron\, baked goods\, and more!\n10:00am-1:00pm – Ceramics in Store Pavilion\, $ Fee\n10:00am – Janet Warwick will sing our National Anthem by Veteran’s Island.\n12:00pm – Kid’s Games\n3:00pm – Cornhole Tournament registration. Bags fly at 4:00pm.\n$20 per team\n9:00pm – Glow-in-the-Dark Duck Derby to benefit Make-A-Wish.\nSunday – Last day to purchase your raffle tickets until 1:00pm.\n12:00pm – Duck Derby
URL:https://www.moyersgrovecg.com/event/make-a-wish-funtastic-weekend-2/
LOCATION:Moyers Grove Campground\, 309 Moyers Grove\, Wapwallopen\, PA\, 18660\, United States
ATTACH;FMTTYPE=image/jpeg:https://www.moyersgrovecg.com/wp-content/uploads/2024/05/IMG_4489.jpg
END:VEVENT
END:VCALENDAR