BEGIN:VCALENDAR
VERSION:2.0
PRODID:-// - ECPv6.15.20//NONSGML v1.0//EN
CALSCALE:GREGORIAN
METHOD:PUBLISH
X-ORIGINAL-URL:https://www.moyersgrovecg.com
X-WR-CALDESC:Events for 
REFRESH-INTERVAL;VALUE=DURATION:PT1H
X-Robots-Tag:noindex
X-PUBLISHED-TTL:PT1H
BEGIN:VTIMEZONE
TZID:America/Chicago
BEGIN:DAYLIGHT
TZOFFSETFROM:-0600
TZOFFSETTO:-0500
TZNAME:CDT
DTSTART:20230312T080000
END:DAYLIGHT
BEGIN:STANDARD
TZOFFSETFROM:-0500
TZOFFSETTO:-0600
TZNAME:CST
DTSTART:20231105T070000
END:STANDARD
BEGIN:DAYLIGHT
TZOFFSETFROM:-0600
TZOFFSETTO:-0500
TZNAME:CDT
DTSTART:20240310T080000
END:DAYLIGHT
BEGIN:STANDARD
TZOFFSETFROM:-0500
TZOFFSETTO:-0600
TZNAME:CST
DTSTART:20241103T070000
END:STANDARD
BEGIN:DAYLIGHT
TZOFFSETFROM:-0600
TZOFFSETTO:-0500
TZNAME:CDT
DTSTART:20250309T080000
END:DAYLIGHT
BEGIN:STANDARD
TZOFFSETFROM:-0500
TZOFFSETTO:-0600
TZNAME:CST
DTSTART:20251102T070000
END:STANDARD
END:VTIMEZONE
BEGIN:VEVENT
DTSTART;TZID=America/Chicago:20240823T080000
DTEND;TZID=America/Chicago:20240825T170000
DTSTAMP:20260423T223806
CREATED:20240504T183537Z
LAST-MODIFIED:20240504T183537Z
UID:2079-1724400000-1724605200@www.moyersgrovecg.com
SUMMARY:Back to School Weekend
DESCRIPTION:Friday – Fish Fry 6:00-8:00pm\nSaturday – 10:00am-1:00pm – Ceramics at Store small fee\n2:00-4:00 pm – Back-to-School Bingo in the Big Pavilion –\nentry fee is 2 back-to-school items or a $2.00 fee to play.\n4:30-5:30pm – 12:00-2:00pm – Gaga Tournament in field $3 per child\n6:00-7:30pm – Make Your Own Ice Cream\nSundaes at Store Pavilion – $2.00 per person
URL:https://www.moyersgrovecg.com/event/back-to-school-weekend-2/
LOCATION:Moyers Grove Campground\, 309 Moyers Grove\, Wapwallopen\, PA\, 18660\, United States
ATTACH;FMTTYPE=image/png:https://www.moyersgrovecg.com/wp-content/uploads/2024/05/image-from-rawpixel-id-10164703-png-1.png
END:VEVENT
END:VCALENDAR