BEGIN:VCALENDAR
VERSION:2.0
PRODID:-// - ECPv6.15.20//NONSGML v1.0//EN
CALSCALE:GREGORIAN
METHOD:PUBLISH
X-ORIGINAL-URL:https://www.moyersgrovecg.com
X-WR-CALDESC:Events for 
REFRESH-INTERVAL;VALUE=DURATION:PT1H
X-Robots-Tag:noindex
X-PUBLISHED-TTL:PT1H
BEGIN:VTIMEZONE
TZID:America/Chicago
BEGIN:DAYLIGHT
TZOFFSETFROM:-0600
TZOFFSETTO:-0500
TZNAME:CDT
DTSTART:20230312T080000
END:DAYLIGHT
BEGIN:STANDARD
TZOFFSETFROM:-0500
TZOFFSETTO:-0600
TZNAME:CST
DTSTART:20231105T070000
END:STANDARD
BEGIN:DAYLIGHT
TZOFFSETFROM:-0600
TZOFFSETTO:-0500
TZNAME:CDT
DTSTART:20240310T080000
END:DAYLIGHT
BEGIN:STANDARD
TZOFFSETFROM:-0500
TZOFFSETTO:-0600
TZNAME:CST
DTSTART:20241103T070000
END:STANDARD
BEGIN:DAYLIGHT
TZOFFSETFROM:-0600
TZOFFSETTO:-0500
TZNAME:CDT
DTSTART:20250309T080000
END:DAYLIGHT
BEGIN:STANDARD
TZOFFSETFROM:-0500
TZOFFSETTO:-0600
TZNAME:CST
DTSTART:20251102T070000
END:STANDARD
END:VTIMEZONE
BEGIN:VEVENT
DTSTART;TZID=America/Chicago:20240830T080000
DTEND;TZID=America/Chicago:20240901T170000
DTSTAMP:20260423T194028
CREATED:20240504T184625Z
LAST-MODIFIED:20240504T184625Z
UID:2083-1725004800-1725210000@www.moyersgrovecg.com
SUMMARY:Labor Day Weekend
DESCRIPTION:Where has the summer gone? Before it leaves\,\nlet’s have a fun filled weekend of water games\,\nbeach volleyball\, horseshoes\, etc.\nFriday\nFish Fry 6:00-8:00pm\nMovie starting at dusk.\nSaturday\nCorn\, Clam\, and Cornhole Slam for Make-A-Wish\n11:00am registration\, 12:00pm start ($40 per team)\n1:00-3:00pm – Painting with Katie in the Big Pavilion. Fee will apply.\n7:00pm – Nite at the Races entry fee $5\, horses $10 per race\nSunday\n10:00am-1:00pm – Ceramics in Store Pavilion\, $ Fee\n12:00pm – Duck Derby\n1:00-3:00pm – Diamond Painting with Mary Jane at Store Pavilion $10\n7-10:00pm – Hillside DJs
URL:https://www.moyersgrovecg.com/event/labor-day-weekend-2/
LOCATION:Moyers Grove Campground\, 309 Moyers Grove\, Wapwallopen\, PA\, 18660\, United States
ATTACH;FMTTYPE=image/jpeg:https://www.moyersgrovecg.com/wp-content/uploads/2024/05/laborDay.jpg
END:VEVENT
BEGIN:VEVENT
DTSTART;TZID=America/Chicago:20240906T080000
DTEND;TZID=America/Chicago:20240908T170000
DTSTAMP:20260423T194028
CREATED:20240530T134033Z
LAST-MODIFIED:20240530T134805Z
UID:2105-1725609600-1725814800@www.moyersgrovecg.com
SUMMARY:Rock Crawl Weekend
DESCRIPTION:Friday – Fish Fry 6:00-8:00pm\nCheck store and our Facebook page – Moyers Grove Campground (Official) for details.\nSponsored by A&S Crawl Zone Powered by Bloom Hobbie Center.
URL:https://www.moyersgrovecg.com/event/rock-crawl-weekend/
ATTACH;FMTTYPE=image/jpeg:https://www.moyersgrovecg.com/wp-content/uploads/2024/05/IMG_4780-1.jpg
END:VEVENT
BEGIN:VEVENT
DTSTART;TZID=America/Chicago:20240913T080000
DTEND;TZID=America/Chicago:20240915T170000
DTSTAMP:20260423T194028
CREATED:20240530T134910Z
LAST-MODIFIED:20240530T134910Z
UID:2111-1726214400-1726419600@www.moyersgrovecg.com
SUMMARY:Cowboy Weekend
DESCRIPTION:Yippee-Ki-Yay! Get ready to cook-up some Cowboy favorites! \nSaturday – TBA – Line Dancing and instruction \n8:00pm – Campfire – S’mores and Hotdogs \nSunday – 2:00pm DESIGNER PURSE AND GIFT CARD BINGO at \nFaith United Church of Christ at 21 Faith Drive in Hazleton. \nThis bingo is sponsored by Moyer’s Grove Campground with all proceeds \ngoing to the Make-A-Wish Foundation. For more information\, contact the office.
URL:https://www.moyersgrovecg.com/event/cowboy-weekend-2/
LOCATION:Faith United Church of Christ\, 21 Faith Drive\, Hazleton\, PA\, 18202\, United States
ATTACH;FMTTYPE=image/png:https://www.moyersgrovecg.com/wp-content/uploads/2023/03/cowboyboot-e1694176598354.png
END:VEVENT
BEGIN:VEVENT
DTSTART;TZID=America/Chicago:20240927T080000
DTEND;TZID=America/Chicago:20240929T170000
DTSTAMP:20260423T194028
CREATED:20240530T165311Z
LAST-MODIFIED:20240530T165436Z
UID:2120-1727424000-1727629200@www.moyersgrovecg.com
SUMMARY:Bloomsburg Fair Weekend
DESCRIPTION:Camp one night\, get one night free.\nDOES NOT INCLUDE RENTAL UNITS OR CABIN.
URL:https://www.moyersgrovecg.com/event/bloomsburg-fair-weekend-2/
LOCATION:Moyers Grove Campground\, 309 Moyers Grove\, Wapwallopen\, PA\, 18660\, United States
ATTACH;FMTTYPE=image/jpeg:https://www.moyersgrovecg.com/wp-content/uploads/2024/05/bloomsburgfair.jpg
END:VEVENT
END:VCALENDAR