BEGIN:VCALENDAR
VERSION:2.0
PRODID:-// - ECPv6.15.20//NONSGML v1.0//EN
CALSCALE:GREGORIAN
METHOD:PUBLISH
X-ORIGINAL-URL:https://www.moyersgrovecg.com
X-WR-CALDESC:Events for 
REFRESH-INTERVAL;VALUE=DURATION:PT1H
X-Robots-Tag:noindex
X-PUBLISHED-TTL:PT1H
BEGIN:VTIMEZONE
TZID:America/Chicago
BEGIN:DAYLIGHT
TZOFFSETFROM:-0600
TZOFFSETTO:-0500
TZNAME:CDT
DTSTART:20230312T080000
END:DAYLIGHT
BEGIN:STANDARD
TZOFFSETFROM:-0500
TZOFFSETTO:-0600
TZNAME:CST
DTSTART:20231105T070000
END:STANDARD
BEGIN:DAYLIGHT
TZOFFSETFROM:-0600
TZOFFSETTO:-0500
TZNAME:CDT
DTSTART:20240310T080000
END:DAYLIGHT
BEGIN:STANDARD
TZOFFSETFROM:-0500
TZOFFSETTO:-0600
TZNAME:CST
DTSTART:20241103T070000
END:STANDARD
BEGIN:DAYLIGHT
TZOFFSETFROM:-0600
TZOFFSETTO:-0500
TZNAME:CDT
DTSTART:20250309T080000
END:DAYLIGHT
BEGIN:STANDARD
TZOFFSETFROM:-0500
TZOFFSETTO:-0600
TZNAME:CST
DTSTART:20251102T070000
END:STANDARD
END:VTIMEZONE
BEGIN:VEVENT
DTSTART;TZID=America/Chicago:20241004T080000
DTEND;TZID=America/Chicago:20241006T170000
DTSTAMP:20260423T181507
CREATED:20240530T190721Z
LAST-MODIFIED:20240530T190721Z
UID:2124-1728028800-1728234000@www.moyersgrovecg.com
SUMMARY:Halloween Party #1
DESCRIPTION:Friday – Fish Fry 6:00-8:00pm\nMovie starting at dusk.\nSaturday – 10:00am-2:00pm – Reverse Tie Dye. A $10 donation is being collected per t-shirt.\nProceeds benefit Make-A-Wish. Bring your own t-shirt or get one from us.\n12-2:00pm – Soup Social – Bring a crockpot of your favorite soup to sell. We’ll be selling the soup to benefit Make-A-Wish.\nSocialize and enjoy some delicious soup all for Make-A-Wish! \n7-10:00pm – Music by Double Trouble \nALL OCTOBER WEEKENDS INCLUDE: Friday:– Movie starting at dusk.\nSaturday: 1:00-8:00pm – Scarecrow Decorating Contest\n– We supply the scarecrow for you to decorate and you supply all decorations. Small fee to enter.\nAll proceeds benefit Make-A-Wish. Prize awarded. Win a free weekend of camping!\n5:30pm – Parade of Costumes and Campground Trick-or-Treating\n7:30pm – Hayride to Haunted Hooter Hall.\nPumpkin Carving Contest (pumpkins available to purchase)\, and Campsite Decorating Contest.\nPrizes awarded for best costumes\, best pumpkin carvings\, and best site decorating.\nDon’t forget your candy to pass out to all the trick-or-treaters.
URL:https://www.moyersgrovecg.com/event/halloween-party-1-2/
LOCATION:Moyers Grove Campground\, 309 Moyers Grove\, Wapwallopen\, PA\, 18660\, United States
ATTACH;FMTTYPE=image/png:https://www.moyersgrovecg.com/wp-content/uploads/2023/03/trickortreat.png
END:VEVENT
BEGIN:VEVENT
DTSTART;TZID=America/Chicago:20241011T080000
DTEND;TZID=America/Chicago:20241014T170000
DTSTAMP:20260423T181507
CREATED:20240530T191050Z
LAST-MODIFIED:20240530T191050Z
UID:2128-1728633600-1728925200@www.moyersgrovecg.com
SUMMARY:Halloween Party #2
DESCRIPTION:Friday – Fish Fry 6:00-8:00pm\nMovie starting at dusk.\nSaturday – 10:00am-1:00pm – Ceramics in Store Pavilion\, $ Fee\n10-2:00pm – Fall Craft and Vendor Show. PUBLIC WELCOME. Free parking and food will be available.\nOur emcee will be DJ Shawn. \nALL OCTOBER WEEKENDS INCLUDE: Friday:– Movie starting at dusk.\nSaturday: 1:00-8:00pm – Scarecrow Decorating Contest\n– We supply the scarecrow for you to decorate and you supply all decorations. Small fee to enter.\nAll proceeds benefit Make-A-Wish. Prize awarded. Win a free weekend of camping!\n5:30pm – Parade of Costumes and Campground Trick-or-Treating\n7:30pm – Hayride to Haunted Hooter Hall.\nPumpkin Carving Contest (pumpkins available to purchase)\, and Campsite Decorating Contest.\nPrizes awarded for best costumes\, best pumpkin carvings\, and best site decorating.\nDon’t forget your candy to pass out to all the trick-or-treaters.
URL:https://www.moyersgrovecg.com/event/halloween-party-2/
LOCATION:Moyers Grove Campground\, 309 Moyers Grove\, Wapwallopen\, PA\, 18660\, United States
ATTACH;FMTTYPE=image/png:https://www.moyersgrovecg.com/wp-content/uploads/2023/03/ghosts.png
END:VEVENT
BEGIN:VEVENT
DTSTART;TZID=America/Chicago:20241025T080000
DTEND;TZID=America/Chicago:20241027T170000
DTSTAMP:20260423T181507
CREATED:20240530T191828Z
LAST-MODIFIED:20240530T191828Z
UID:2134-1729843200-1730048400@www.moyersgrovecg.com
SUMMARY:Halloween Party #4 (Our Final Party of the Season)
DESCRIPTION:Friday – Fish Fry TBA\nMovie starting at dusk.\nSaturday – 10:00am-1:00pm – Ceramics in Store Pavilion\, $ Fee \nALL OCTOBER WEEKENDS INCLUDE: Friday:– Movie starting at dusk.\nSaturday: 1:00-8:00pm – Scarecrow Decorating Contest\n– We supply the scarecrow for you to decorate and you supply all decorations. Small fee to enter.\nAll proceeds benefit Make-A-Wish. Prize awarded. Win a free weekend of camping!\n5:30pm – Parade of Costumes and Campground Trick-or-Treating\n7:30pm – Hayride to Haunted Hooter Hall.\nPumpkin Carving Contest (pumpkins available to purchase)\, and Campsite Decorating Contest.\nPrizes awarded for best costumes\, best pumpkin carvings\, and best site decorating.\nDon’t forget your candy to pass out to all the trick-or-treaters.
URL:https://www.moyersgrovecg.com/event/halloween-party-4-our-final-party-of-the-season/
LOCATION:Moyers Grove Campground\, 309 Moyers Grove\, Wapwallopen\, PA\, 18660\, United States
ATTACH;FMTTYPE=image/png:https://www.moyersgrovecg.com/wp-content/uploads/2023/03/happyhalloween.png
END:VEVENT
END:VCALENDAR